BEGIN:VCALENDAR
VERSION:2.0
PRODID:-//Lamorinda CERT - ECPv6.15.14//NONSGML v1.0//EN
CALSCALE:GREGORIAN
METHOD:PUBLISH
X-WR-CALNAME:Lamorinda CERT
X-ORIGINAL-URL:https://lamorindacert.org
X-WR-CALDESC:Events for Lamorinda CERT
REFRESH-INTERVAL;VALUE=DURATION:PT1H
X-Robots-Tag:noindex
X-PUBLISHED-TTL:PT1H
BEGIN:VTIMEZONE
TZID:America/Los_Angeles
BEGIN:DAYLIGHT
TZOFFSETFROM:-0800
TZOFFSETTO:-0700
TZNAME:PDT
DTSTART:20230312T100000
END:DAYLIGHT
BEGIN:STANDARD
TZOFFSETFROM:-0700
TZOFFSETTO:-0800
TZNAME:PST
DTSTART:20231105T090000
END:STANDARD
BEGIN:DAYLIGHT
TZOFFSETFROM:-0800
TZOFFSETTO:-0700
TZNAME:PDT
DTSTART:20240310T100000
END:DAYLIGHT
BEGIN:STANDARD
TZOFFSETFROM:-0700
TZOFFSETTO:-0800
TZNAME:PST
DTSTART:20241103T090000
END:STANDARD
BEGIN:DAYLIGHT
TZOFFSETFROM:-0800
TZOFFSETTO:-0700
TZNAME:PDT
DTSTART:20250309T100000
END:DAYLIGHT
BEGIN:STANDARD
TZOFFSETFROM:-0700
TZOFFSETTO:-0800
TZNAME:PST
DTSTART:20251102T090000
END:STANDARD
END:VTIMEZONE
BEGIN:VEVENT
DTSTART;TZID=America/Los_Angeles:20240718T093000
DTEND;TZID=America/Los_Angeles:20240718T120000
DTSTAMP:20260423T105738
CREATED:20240604T182652Z
LAST-MODIFIED:20240604T182652Z
UID:102652-1721295000-1721304000@lamorindacert.org
SUMMARY:Stop the Bleed and Advanced Bleeding Control - morning
DESCRIPTION:Hands-on class for Stop the Bleed and Advanced Bleeding Control. This 2.5 hour class will prepare you to deal with life threatening bleeding and some nuisance bleeding. Class fee is $10.00
URL:https://lamorindacert.org/calendar/stop-the-bleed-and-advanced-bleeding-control-morning-3/
LOCATION:Moraga Library Community Room\, 1500 St. Mary's Rd\, Moraga\, CA\, 94556\, United States
CATEGORIES:Bleeding Control
END:VEVENT
BEGIN:VEVENT
DTSTART;TZID=America/Los_Angeles:20240718T133000
DTEND;TZID=America/Los_Angeles:20240718T160000
DTSTAMP:20260423T105738
CREATED:20240604T182814Z
LAST-MODIFIED:20240604T182814Z
UID:102655-1721309400-1721318400@lamorindacert.org
SUMMARY:Stop the Bleed and Advanced Bleeding Control - afternoon
DESCRIPTION:Hands-on class for Stop the Bleed and Advanced Bleeding Control. This 2.5 hour class will prepare you to deal with life threatening bleeding and some nuisance bleeding. Class fee is $10.00
URL:https://lamorindacert.org/calendar/stop-the-bleed-and-advanced-bleeding-control-afternoon-2/
LOCATION:Moraga Library Community Room\, 1500 St. Mary's Rd\, Moraga\, CA\, 94556\, United States
CATEGORIES:Bleeding Control
END:VEVENT
BEGIN:VEVENT
DTSTART;TZID=America/Los_Angeles:20240718T183000
DTEND;TZID=America/Los_Angeles:20240718T210000
DTSTAMP:20260423T105738
CREATED:20240604T182907Z
LAST-MODIFIED:20240604T182907Z
UID:102660-1721327400-1721336400@lamorindacert.org
SUMMARY:Stop the Bleed and Advanced Bleeding Control - evening
DESCRIPTION:Hands-on class for Stop the Bleed and Advanced Bleeding Control. This 2.5 hour class will prepare you to deal with life threatening bleeding and some nuisance bleeding. Class fee is $10.00
URL:https://lamorindacert.org/calendar/stop-the-bleed-and-advanced-bleeding-control-evening-3/
LOCATION:Moraga Library Community Room\, 1500 St. Mary's Rd\, Moraga\, CA\, 94556\, United States
CATEGORIES:Bleeding Control
END:VEVENT
END:VCALENDAR