BEGIN:VCALENDAR
VERSION:2.0
PRODID:-//Lamorinda CERT - ECPv6.15.14//NONSGML v1.0//EN
CALSCALE:GREGORIAN
METHOD:PUBLISH
X-ORIGINAL-URL:https://lamorindacert.org
X-WR-CALDESC:Events for Lamorinda CERT
REFRESH-INTERVAL;VALUE=DURATION:PT1H
X-Robots-Tag:noindex
X-PUBLISHED-TTL:PT1H
BEGIN:VTIMEZONE
TZID:America/Los_Angeles
BEGIN:DAYLIGHT
TZOFFSETFROM:-0800
TZOFFSETTO:-0700
TZNAME:PDT
DTSTART:20230312T100000
END:DAYLIGHT
BEGIN:STANDARD
TZOFFSETFROM:-0700
TZOFFSETTO:-0800
TZNAME:PST
DTSTART:20231105T090000
END:STANDARD
BEGIN:DAYLIGHT
TZOFFSETFROM:-0800
TZOFFSETTO:-0700
TZNAME:PDT
DTSTART:20240310T100000
END:DAYLIGHT
BEGIN:STANDARD
TZOFFSETFROM:-0700
TZOFFSETTO:-0800
TZNAME:PST
DTSTART:20241103T090000
END:STANDARD
BEGIN:DAYLIGHT
TZOFFSETFROM:-0800
TZOFFSETTO:-0700
TZNAME:PDT
DTSTART:20250309T100000
END:DAYLIGHT
BEGIN:STANDARD
TZOFFSETFROM:-0700
TZOFFSETTO:-0800
TZNAME:PST
DTSTART:20251102T090000
END:STANDARD
END:VTIMEZONE
BEGIN:VEVENT
DTSTART;TZID=America/Los_Angeles:20240621T093000
DTEND;TZID=America/Los_Angeles:20240621T120000
DTSTAMP:20260423T140521
CREATED:20240604T182012Z
LAST-MODIFIED:20240604T182012Z
UID:102644-1718962200-1718971200@lamorindacert.org
SUMMARY:Stop the Bleed and Advanced Bleeding Control - morning
DESCRIPTION:Hands-on class for Stop the Bleed and Advanced Bleeding Control. This 2.5 hour class will prepare you to deal with life threatening bleeding and some nuisance bleeding. Class fee is $10.00
URL:https://lamorindacert.org/calendar/stop-the-bleed-and-advanced-bleeding-control-morning/
LOCATION:Lafayette Community Center\, 500 St. Mary's Rd\, Lafayette\, CA\, 94549\, United States
CATEGORIES:Bleeding Control
END:VEVENT
BEGIN:VEVENT
DTSTART;TZID=America/Los_Angeles:20240621T133000
DTEND;TZID=America/Los_Angeles:20240621T160000
DTSTAMP:20260423T140521
CREATED:20240604T180414Z
LAST-MODIFIED:20240604T182052Z
UID:102636-1718976600-1718985600@lamorindacert.org
SUMMARY:Stop the Bleed and Advanced Bleeding Control - afternoon
DESCRIPTION:Hands-on class for Stop the Bleed and Advanced Bleeding Control. This 2.5 hour class will prepare you to deal with life threatening bleeding and some nuisance bleeding. Class fee is $10.00
URL:https://lamorindacert.org/calendar/stop-the-bleed-and-advanced-bleeding-control/
LOCATION:Lafayette Community Center\, 500 St. Mary's Rd\, Lafayette\, CA\, 94549\, United States
CATEGORIES:Bleeding Control
END:VEVENT
BEGIN:VEVENT
DTSTART;TZID=America/Los_Angeles:20240621T183000
DTEND;TZID=America/Los_Angeles:20240621T210000
DTSTAMP:20260423T140521
CREATED:20240604T181026Z
LAST-MODIFIED:20240604T181026Z
UID:102640-1718994600-1719003600@lamorindacert.org
SUMMARY:Stop the Bleed and Advanced Bleeding Control - evening
DESCRIPTION:Hands-on class for Stop the Bleed and Advanced Bleeding Control. This 2.5 hour class will prepare you to deal with life threatening bleeding and some nuisance bleeding. Class fee is $10.00
URL:https://lamorindacert.org/calendar/stop-the-bleed-and-advanced-bleeding-control-evening/
LOCATION:Lafayette Community Center\, 500 St. Mary's Rd\, Lafayette\, CA\, 94549\, United States
CATEGORIES:Bleeding Control
END:VEVENT
END:VCALENDAR