BEGIN:VCALENDAR
VERSION:2.0
PRODID:-//Lamorinda CERT - ECPv6.15.14//NONSGML v1.0//EN
CALSCALE:GREGORIAN
METHOD:PUBLISH
X-WR-CALNAME:Lamorinda CERT
X-ORIGINAL-URL:https://lamorindacert.org
X-WR-CALDESC:Events for Lamorinda CERT
REFRESH-INTERVAL;VALUE=DURATION:PT1H
X-Robots-Tag:noindex
X-PUBLISHED-TTL:PT1H
BEGIN:VTIMEZONE
TZID:America/Los_Angeles
BEGIN:DAYLIGHT
TZOFFSETFROM:-0800
TZOFFSETTO:-0700
TZNAME:PDT
DTSTART:20230312T100000
END:DAYLIGHT
BEGIN:STANDARD
TZOFFSETFROM:-0700
TZOFFSETTO:-0800
TZNAME:PST
DTSTART:20231105T090000
END:STANDARD
BEGIN:DAYLIGHT
TZOFFSETFROM:-0800
TZOFFSETTO:-0700
TZNAME:PDT
DTSTART:20240310T100000
END:DAYLIGHT
BEGIN:STANDARD
TZOFFSETFROM:-0700
TZOFFSETTO:-0800
TZNAME:PST
DTSTART:20241103T090000
END:STANDARD
BEGIN:DAYLIGHT
TZOFFSETFROM:-0800
TZOFFSETTO:-0700
TZNAME:PDT
DTSTART:20250309T100000
END:DAYLIGHT
BEGIN:STANDARD
TZOFFSETFROM:-0700
TZOFFSETTO:-0800
TZNAME:PST
DTSTART:20251102T090000
END:STANDARD
END:VTIMEZONE
BEGIN:VEVENT
DTSTART;TZID=America/Los_Angeles:20240202T183000
DTEND;TZID=America/Los_Angeles:20240202T213000
DTSTAMP:20260423T135743
CREATED:20231206T224706Z
LAST-MODIFIED:20231206T224706Z
UID:102312-1706898600-1706909400@lamorindacert.org
SUMMARY:CERT Class Series 2401
DESCRIPTION:CERT Winter Basic Class Series 2401 runs from January 11 through March 7th. \nMedical Part I
URL:https://lamorindacert.org/calendar/cert-class-series-2401-9/
LOCATION:Lafayette Community Center\, 500 St. Mary's Rd\, Lafayette\, CA\, 94549\, United States
CATEGORIES:CERT Basic Class
ORGANIZER;CN="Registrar":MAILTO:registrar@lamorindacert.org
END:VEVENT
BEGIN:VEVENT
DTSTART;TZID=America/Los_Angeles:20240208T183000
DTEND;TZID=America/Los_Angeles:20240208T213000
DTSTAMP:20260423T135743
CREATED:20231206T223701Z
LAST-MODIFIED:20231206T223752Z
UID:102301-1707417000-1707427800@lamorindacert.org
SUMMARY:CERT Class Series 2401
DESCRIPTION:CERT Winter Basic Class Series 2401 runs from January 11 through March 7th. \nMedical Part II
URL:https://lamorindacert.org/calendar/cert-class-series-2401-4/
LOCATION:Lafayette Community Center\, 500 St. Mary's Rd\, Lafayette\, CA\, 94549\, United States
CATEGORIES:CERT Basic Class
ORGANIZER;CN="Registrar":MAILTO:registrar@lamorindacert.org
END:VEVENT
BEGIN:VEVENT
DTSTART;TZID=America/Los_Angeles:20240215T183000
DTEND;TZID=America/Los_Angeles:20240215T213000
DTSTAMP:20260423T135743
CREATED:20231206T224112Z
LAST-MODIFIED:20231206T224112Z
UID:102304-1708021800-1708032600@lamorindacert.org
SUMMARY:CERT Class Series 2401
DESCRIPTION:CERT Winter Basic Class Series 2401 runs from January 11 through March 7th. \nSearch & Rescue
URL:https://lamorindacert.org/calendar/cert-class-series-2401-5/
LOCATION:Lafayette Community Center\, 500 St. Mary's Rd\, Lafayette\, CA\, 94549\, United States
CATEGORIES:CERT Basic Class
ORGANIZER;CN="Registrar":MAILTO:registrar@lamorindacert.org
END:VEVENT
BEGIN:VEVENT
DTSTART;TZID=America/Los_Angeles:20240222T183000
DTEND;TZID=America/Los_Angeles:20240222T213000
DTSTAMP:20260423T135743
CREATED:20231206T224223Z
LAST-MODIFIED:20231206T224223Z
UID:102306-1708626600-1708637400@lamorindacert.org
SUMMARY:CERT Class Series 2401
DESCRIPTION:CERT Winter Basic Class Series 2401 runs from January 11 through March 7th. \nCribbing\, Pets\, Transport\, Mini-Drill
URL:https://lamorindacert.org/calendar/cert-class-series-2401-6/
LOCATION:Lafayette Community Center\, 500 St. Mary's Rd\, Lafayette\, CA\, 94549\, United States
CATEGORIES:CERT Basic Class
ORGANIZER;CN="Registrar":MAILTO:registrar@lamorindacert.org
END:VEVENT
BEGIN:VEVENT
DTSTART;TZID=America/Los_Angeles:20240229T183000
DTEND;TZID=America/Los_Angeles:20240229T213000
DTSTAMP:20260423T135743
CREATED:20231206T224333Z
LAST-MODIFIED:20231206T224333Z
UID:102308-1709231400-1709242200@lamorindacert.org
SUMMARY:CERT Class Series 2401
DESCRIPTION:CERT Winter Basic Class Series 2401 runs from January 11 through March 7th. \nExercise
URL:https://lamorindacert.org/calendar/cert-class-series-2401-7/
LOCATION:CCCFPD Training Center\, 2945 Treat Blvd\, Concord\, CA\, 94518\, United States
CATEGORIES:CERT Basic Class
ORGANIZER;CN="Registrar":MAILTO:registrar@lamorindacert.org
END:VEVENT
END:VCALENDAR