BEGIN:VCALENDAR
VERSION:2.0
PRODID:-//Lamorinda CERT - ECPv6.15.14//NONSGML v1.0//EN
CALSCALE:GREGORIAN
METHOD:PUBLISH
X-WR-CALNAME:Lamorinda CERT
X-ORIGINAL-URL:https://lamorindacert.org
X-WR-CALDESC:Events for Lamorinda CERT
REFRESH-INTERVAL;VALUE=DURATION:PT1H
X-Robots-Tag:noindex
X-PUBLISHED-TTL:PT1H
BEGIN:VTIMEZONE
TZID:America/Los_Angeles
BEGIN:DAYLIGHT
TZOFFSETFROM:-0800
TZOFFSETTO:-0700
TZNAME:PDT
DTSTART:20240310T100000
END:DAYLIGHT
BEGIN:STANDARD
TZOFFSETFROM:-0700
TZOFFSETTO:-0800
TZNAME:PST
DTSTART:20241103T090000
END:STANDARD
BEGIN:DAYLIGHT
TZOFFSETFROM:-0800
TZOFFSETTO:-0700
TZNAME:PDT
DTSTART:20250309T100000
END:DAYLIGHT
BEGIN:STANDARD
TZOFFSETFROM:-0700
TZOFFSETTO:-0800
TZNAME:PST
DTSTART:20251102T090000
END:STANDARD
BEGIN:DAYLIGHT
TZOFFSETFROM:-0800
TZOFFSETTO:-0700
TZNAME:PDT
DTSTART:20260308T100000
END:DAYLIGHT
BEGIN:STANDARD
TZOFFSETFROM:-0700
TZOFFSETTO:-0800
TZNAME:PST
DTSTART:20261101T090000
END:STANDARD
END:VTIMEZONE
BEGIN:VEVENT
DTSTART;TZID=America/Los_Angeles:20251002T163000
DTEND;TZID=America/Los_Angeles:20251002T213000
DTSTAMP:20260422T041744
CREATED:20250324T172637Z
LAST-MODIFIED:20250324T172637Z
UID:103139-1759422600-1759440600@lamorindacert.org
SUMMARY:Fall Class Series 2509
DESCRIPTION:CERT Basic Training Class Series 2509 runs on Thursday nights from September 11\, 2025 through November 6\, 2025. Register at https://classes.lamorindacert.org \nMedical Part 1 \n 
URL:https://lamorindacert.org/calendar/fall-class-series-2509-4/
LOCATION:Orinda Community Center\, 28 Orinda Way\, Orinda\, CA\, 94563\, United States
CATEGORIES:CERT Basic Class
ORGANIZER;CN="Registrar":MAILTO:registrar@lamorindacert.org
END:VEVENT
BEGIN:VEVENT
DTSTART;TZID=America/Los_Angeles:20251009T163000
DTEND;TZID=America/Los_Angeles:20251009T213000
DTSTAMP:20260422T041744
CREATED:20250324T172701Z
LAST-MODIFIED:20250324T172701Z
UID:103141-1760027400-1760045400@lamorindacert.org
SUMMARY:Fall Class Series 2509
DESCRIPTION:CERT Basic Training Class Series 2509 runs on Thursday nights from September 11\, 2025 through November 6\, 2025. Register at https://classes.lamorindacert.org \nMedical Part 2 \n 
URL:https://lamorindacert.org/calendar/fall-class-series-2509-5/
LOCATION:Orinda Community Center\, 28 Orinda Way\, Orinda\, CA\, 94563\, United States
CATEGORIES:CERT Basic Class
ORGANIZER;CN="Registrar":MAILTO:registrar@lamorindacert.org
END:VEVENT
BEGIN:VEVENT
DTSTART;TZID=America/Los_Angeles:20251016T163000
DTEND;TZID=America/Los_Angeles:20251016T213000
DTSTAMP:20260422T041744
CREATED:20250324T172737Z
LAST-MODIFIED:20250324T172737Z
UID:103143-1760632200-1760650200@lamorindacert.org
SUMMARY:Fall Class Series 2509
DESCRIPTION:CERT Basic Training Class Series 2509 runs on Thursday nights from September 11\, 2025 through November 6\, 2025. Register at https://classes.lamorindacert.org \nLight Search and Rescue \n 
URL:https://lamorindacert.org/calendar/fall-class-series-2509-6/
LOCATION:Orinda Community Center\, 28 Orinda Way\, Orinda\, CA\, 94563\, United States
CATEGORIES:CERT Basic Class
ORGANIZER;CN="Registrar":MAILTO:registrar@lamorindacert.org
END:VEVENT
BEGIN:VEVENT
DTSTART;TZID=America/Los_Angeles:20251023T163000
DTEND;TZID=America/Los_Angeles:20251023T213000
DTSTAMP:20260422T041744
CREATED:20250324T172819Z
LAST-MODIFIED:20250324T172819Z
UID:103145-1761237000-1761255000@lamorindacert.org
SUMMARY:Fall Class Series 2509
DESCRIPTION:CERT Basic Training Class Series 2509 runs on Thursday nights from September 11\, 2025 through November 6\, 2025. Register at https://classes.lamorindacert.org \nCribbing\, Pet Preparedness\, and mini-drill \n 
URL:https://lamorindacert.org/calendar/fall-class-series-2509-7/
LOCATION:Orinda Community Center\, 28 Orinda Way\, Orinda\, CA\, 94563\, United States
CATEGORIES:CERT Basic Class
ORGANIZER;CN="Registrar":MAILTO:registrar@lamorindacert.org
END:VEVENT
BEGIN:VEVENT
DTSTART;TZID=America/Los_Angeles:20251030T160000
DTEND;TZID=America/Los_Angeles:20251030T220000
DTSTAMP:20260422T041744
CREATED:20250324T172922Z
LAST-MODIFIED:20250324T172922Z
UID:103147-1761840000-1761861600@lamorindacert.org
SUMMARY:Fall Class Series 2509
DESCRIPTION:CERT Basic Training Class Series 2509 runs on Thursday nights from September 11\, 2025 through November 6\, 2025. Register at https://classes.lamorindacert.org \nExercise at ConFire Training Station 20 \n 
URL:https://lamorindacert.org/calendar/fall-class-series-2509-8/
LOCATION:CCCFPD Training Center\, 2945 Treat Blvd\, Concord\, CA\, 94518\, United States
CATEGORIES:CERT Basic Class
ORGANIZER;CN="Registrar":MAILTO:registrar@lamorindacert.org
END:VEVENT
END:VCALENDAR