BEGIN:VCALENDAR
VERSION:2.0
PRODID:-//Lamorinda CERT - ECPv6.15.14//NONSGML v1.0//EN
CALSCALE:GREGORIAN
METHOD:PUBLISH
X-WR-CALNAME:Lamorinda CERT
X-ORIGINAL-URL:https://lamorindacert.org
X-WR-CALDESC:Events for Lamorinda CERT
REFRESH-INTERVAL;VALUE=DURATION:PT1H
X-Robots-Tag:noindex
X-PUBLISHED-TTL:PT1H
BEGIN:VTIMEZONE
TZID:America/Los_Angeles
BEGIN:DAYLIGHT
TZOFFSETFROM:-0800
TZOFFSETTO:-0700
TZNAME:PDT
DTSTART:20250309T100000
END:DAYLIGHT
BEGIN:STANDARD
TZOFFSETFROM:-0700
TZOFFSETTO:-0800
TZNAME:PST
DTSTART:20251102T090000
END:STANDARD
BEGIN:DAYLIGHT
TZOFFSETFROM:-0800
TZOFFSETTO:-0700
TZNAME:PDT
DTSTART:20260308T100000
END:DAYLIGHT
BEGIN:STANDARD
TZOFFSETFROM:-0700
TZOFFSETTO:-0800
TZNAME:PST
DTSTART:20261101T090000
END:STANDARD
BEGIN:DAYLIGHT
TZOFFSETFROM:-0800
TZOFFSETTO:-0700
TZNAME:PDT
DTSTART:20270314T100000
END:DAYLIGHT
BEGIN:STANDARD
TZOFFSETFROM:-0700
TZOFFSETTO:-0800
TZNAME:PST
DTSTART:20271107T090000
END:STANDARD
END:VTIMEZONE
BEGIN:VEVENT
DTSTART;TZID=America/Los_Angeles:20260915T183000
DTEND;TZID=America/Los_Angeles:20260915T213000
DTSTAMP:20260421T201617
CREATED:20260420T190639Z
LAST-MODIFIED:20260420T190639Z
UID:103733-1789497000-1789507800@lamorindacert.org
SUMMARY:Fall Class Series - 2026
DESCRIPTION:The Fall Lamorinda CERT Class Series is on Tuesday evenings from September 15 through November 10\, 2026. The classes will be at the Lafayette Community Center\, Elderberry Room. This 1st class will be an Introduction and the Preparedness module.
URL:https://lamorindacert.org/calendar/fall-class-series-2026/
LOCATION:Lafayette Community Center\, 500 St. Mary's Rd\, Lafayette\, CA\, 94549\, United States
CATEGORIES:CERT Basic Class
ORGANIZER;CN="Registrar":MAILTO:registrar@lamorindacert.org
END:VEVENT
BEGIN:VEVENT
DTSTART;TZID=America/Los_Angeles:20260922T183000
DTEND;TZID=America/Los_Angeles:20260922T213000
DTSTAMP:20260421T201617
CREATED:20260420T190924Z
LAST-MODIFIED:20260420T190924Z
UID:103736-1790101800-1790112600@lamorindacert.org
SUMMARY:Fall Class Series - 2026
DESCRIPTION:The Fall Lamorinda CERT Class Series is on Tuesday evenings from September 15 through November 10\, 2026. The classes will be at the Lafayette Community Center\, Elderberry Room. This 2nd class will cover CERT Organization and Communications.
URL:https://lamorindacert.org/calendar/fall-class-series-2026-2/
LOCATION:Lafayette Community Center\, 500 St. Mary's Rd\, Lafayette\, CA\, 94549\, United States
CATEGORIES:CERT Basic Class
ORGANIZER;CN="Registrar":MAILTO:registrar@lamorindacert.org
END:VEVENT
BEGIN:VEVENT
DTSTART;TZID=America/Los_Angeles:20260929T183000
DTEND;TZID=America/Los_Angeles:20260929T213000
DTSTAMP:20260421T201617
CREATED:20260420T191033Z
LAST-MODIFIED:20260420T191033Z
UID:103738-1790706600-1790717400@lamorindacert.org
SUMMARY:Fall Class Series - 2026
DESCRIPTION:The Fall Lamorinda CERT Class Series is on Tuesday evenings from September 15 through November 10\, 2026. The classes will be at the Lafayette Community Center\, Elderberry Room. This 3rd class will cover Utilities\, HazMat\, and Fire Safety.
URL:https://lamorindacert.org/calendar/fall-class-series-2026-3/
LOCATION:Lafayette Community Center\, 500 St. Mary's Rd\, Lafayette\, CA\, 94549\, United States
CATEGORIES:CERT Basic Class
ORGANIZER;CN="Registrar":MAILTO:registrar@lamorindacert.org
END:VEVENT
END:VCALENDAR