BEGIN:VCALENDAR
VERSION:2.0
PRODID:-//Lamorinda CERT - ECPv6.15.14//NONSGML v1.0//EN
CALSCALE:GREGORIAN
METHOD:PUBLISH
X-ORIGINAL-URL:https://lamorindacert.org
X-WR-CALDESC:Events for Lamorinda CERT
REFRESH-INTERVAL;VALUE=DURATION:PT1H
X-Robots-Tag:noindex
X-PUBLISHED-TTL:PT1H
BEGIN:VTIMEZONE
TZID:America/Los_Angeles
BEGIN:DAYLIGHT
TZOFFSETFROM:-0800
TZOFFSETTO:-0700
TZNAME:PDT
DTSTART:20260308T100000
END:DAYLIGHT
BEGIN:STANDARD
TZOFFSETFROM:-0700
TZOFFSETTO:-0800
TZNAME:PST
DTSTART:20261101T090000
END:STANDARD
BEGIN:DAYLIGHT
TZOFFSETFROM:-0800
TZOFFSETTO:-0700
TZNAME:PDT
DTSTART:20270314T100000
END:DAYLIGHT
BEGIN:STANDARD
TZOFFSETFROM:-0700
TZOFFSETTO:-0800
TZNAME:PST
DTSTART:20271107T090000
END:STANDARD
BEGIN:DAYLIGHT
TZOFFSETFROM:-0800
TZOFFSETTO:-0700
TZNAME:PDT
DTSTART:20280312T100000
END:DAYLIGHT
BEGIN:STANDARD
TZOFFSETFROM:-0700
TZOFFSETTO:-0800
TZNAME:PST
DTSTART:20281105T090000
END:STANDARD
END:VTIMEZONE
BEGIN:VEVENT
DTSTART;TZID=America/Los_Angeles:20270107T183000
DTEND;TZID=America/Los_Angeles:20270107T213000
DTSTAMP:20260422T024359
CREATED:20260420T192603Z
LAST-MODIFIED:20260420T192603Z
UID:103755-1799346600-1799357400@lamorindacert.org
SUMMARY:Winter Class Series - 2027
DESCRIPTION:The Winter Lamorinda CERT Class Series is on Thursday evenings from January 7 through March 4\, 2027. The classes will be at the Moraga Hacienda\, Casita Room. This 1st class will be an Introduction and the Preparedness module.
URL:https://lamorindacert.org/calendar/winter-class-series-2027/
LOCATION:Moraga Hacienda\, 2100 Donald Dr\, Moraga\, 94556\, United States
CATEGORIES:CERT Basic Class
ORGANIZER;CN="Registrar":MAILTO:registrar@lamorindacert.org
END:VEVENT
BEGIN:VEVENT
DTSTART;TZID=America/Los_Angeles:20270114T183000
DTEND;TZID=America/Los_Angeles:20270114T213000
DTSTAMP:20260422T024359
CREATED:20260420T192736Z
LAST-MODIFIED:20260420T192736Z
UID:103758-1799951400-1799962200@lamorindacert.org
SUMMARY:Winter Class Series - 2027
DESCRIPTION:The Winter Lamorinda CERT Class Series is on Thursday evenings from January 7 through March 4\, 2027. The classes will be at the Moraga Hacienda\, Casita Room. This 2nd class will cover CERT Organization and Communications.
URL:https://lamorindacert.org/calendar/winter-class-series-2027-2/
LOCATION:Moraga Hacienda\, 2100 Donald Dr\, Moraga\, 94556\, United States
CATEGORIES:CERT Basic Class
ORGANIZER;CN="Registrar":MAILTO:registrar@lamorindacert.org
END:VEVENT
BEGIN:VEVENT
DTSTART;TZID=America/Los_Angeles:20270121T183000
DTEND;TZID=America/Los_Angeles:20270121T213000
DTSTAMP:20260422T024359
CREATED:20260420T192835Z
LAST-MODIFIED:20260420T192835Z
UID:103760-1800556200-1800567000@lamorindacert.org
SUMMARY:Winter Class Series - 2027
DESCRIPTION:The Winter Lamorinda CERT Class Series is on Thursday evenings from January 7 through March 4\, 2027. The classes will be at the Moraga Hacienda\, Casita Room. This 3rd class will cover Utilities\, HazMat\, and Fire Safety.
URL:https://lamorindacert.org/calendar/winter-class-series-2027-3/
LOCATION:Moraga Hacienda\, 2100 Donald Dr\, Moraga\, 94556\, United States
CATEGORIES:CERT Basic Class
ORGANIZER;CN="Registrar":MAILTO:registrar@lamorindacert.org
END:VEVENT
BEGIN:VEVENT
DTSTART;TZID=America/Los_Angeles:20270128T183000
DTEND;TZID=America/Los_Angeles:20270128T213000
DTSTAMP:20260422T024359
CREATED:20260420T192921Z
LAST-MODIFIED:20260420T192921Z
UID:103762-1801161000-1801171800@lamorindacert.org
SUMMARY:Winter Class Series - 2027
DESCRIPTION:The Winter Lamorinda CERT Class Series is on Thursday evenings from January 7 through March 4\, 2027. The classes will be at the Moraga Hacienda\, Casita Room. This 4th class will cover Disaster Medicine Part I.
URL:https://lamorindacert.org/calendar/winter-class-series-2027-4/
LOCATION:Moraga Hacienda\, 2100 Donald Dr\, Moraga\, 94556\, United States
CATEGORIES:CERT Basic Class
ORGANIZER;CN="Registrar":MAILTO:registrar@lamorindacert.org
END:VEVENT
END:VCALENDAR