BEGIN:VCALENDAR
VERSION:2.0
PRODID:-//Lamorinda CERT - ECPv6.15.14//NONSGML v1.0//EN
CALSCALE:GREGORIAN
METHOD:PUBLISH
X-WR-CALNAME:Lamorinda CERT
X-ORIGINAL-URL:https://lamorindacert.org
X-WR-CALDESC:Events for Lamorinda CERT
REFRESH-INTERVAL;VALUE=DURATION:PT1H
X-Robots-Tag:noindex
X-PUBLISHED-TTL:PT1H
BEGIN:VTIMEZONE
TZID:America/Los_Angeles
BEGIN:DAYLIGHT
TZOFFSETFROM:-0800
TZOFFSETTO:-0700
TZNAME:PDT
DTSTART:20240310T100000
END:DAYLIGHT
BEGIN:STANDARD
TZOFFSETFROM:-0700
TZOFFSETTO:-0800
TZNAME:PST
DTSTART:20241103T090000
END:STANDARD
BEGIN:DAYLIGHT
TZOFFSETFROM:-0800
TZOFFSETTO:-0700
TZNAME:PDT
DTSTART:20250309T100000
END:DAYLIGHT
BEGIN:STANDARD
TZOFFSETFROM:-0700
TZOFFSETTO:-0800
TZNAME:PST
DTSTART:20251102T090000
END:STANDARD
BEGIN:DAYLIGHT
TZOFFSETFROM:-0800
TZOFFSETTO:-0700
TZNAME:PDT
DTSTART:20260308T100000
END:DAYLIGHT
BEGIN:STANDARD
TZOFFSETFROM:-0700
TZOFFSETTO:-0800
TZNAME:PST
DTSTART:20261101T090000
END:STANDARD
END:VTIMEZONE
BEGIN:VEVENT
DTSTART;TZID=America/Los_Angeles:20251106T163000
DTEND;TZID=America/Los_Angeles:20251106T213000
DTSTAMP:20260422T041933
CREATED:20250324T173112Z
LAST-MODIFIED:20250324T173112Z
UID:103149-1762446600-1762464600@lamorindacert.org
SUMMARY:Fall Class Series 2509
DESCRIPTION:CERT Basic Training Class Series 2509 runs on Thursday nights from September 11\, 2025 through November 6\, 2025. Register at https://classes.lamorindacert.org \nDisaster Psychology\, Terrorism\, and Graduation \n 
URL:https://lamorindacert.org/calendar/fall-class-series-2509-9/
LOCATION:Orinda Community Center\, 28 Orinda Way\, Orinda\, CA\, 94563\, United States
CATEGORIES:CERT Basic Class
ORGANIZER;CN="Registrar":MAILTO:registrar@lamorindacert.org
END:VEVENT
END:VCALENDAR