BEGIN:VCALENDAR
VERSION:2.0
PRODID:-//Lamorinda CERT - ECPv6.15.14//NONSGML v1.0//EN
CALSCALE:GREGORIAN
METHOD:PUBLISH
X-WR-CALNAME:Lamorinda CERT
X-ORIGINAL-URL:https://lamorindacert.org
X-WR-CALDESC:Events for Lamorinda CERT
REFRESH-INTERVAL;VALUE=DURATION:PT1H
X-Robots-Tag:noindex
X-PUBLISHED-TTL:PT1H
BEGIN:VTIMEZONE
TZID:America/Los_Angeles
BEGIN:DAYLIGHT
TZOFFSETFROM:-0800
TZOFFSETTO:-0700
TZNAME:PDT
DTSTART:20230312T100000
END:DAYLIGHT
BEGIN:STANDARD
TZOFFSETFROM:-0700
TZOFFSETTO:-0800
TZNAME:PST
DTSTART:20231105T090000
END:STANDARD
BEGIN:DAYLIGHT
TZOFFSETFROM:-0800
TZOFFSETTO:-0700
TZNAME:PDT
DTSTART:20240310T100000
END:DAYLIGHT
BEGIN:STANDARD
TZOFFSETFROM:-0700
TZOFFSETTO:-0800
TZNAME:PST
DTSTART:20241103T090000
END:STANDARD
BEGIN:DAYLIGHT
TZOFFSETFROM:-0800
TZOFFSETTO:-0700
TZNAME:PDT
DTSTART:20250309T100000
END:DAYLIGHT
BEGIN:STANDARD
TZOFFSETFROM:-0700
TZOFFSETTO:-0800
TZNAME:PST
DTSTART:20251102T090000
END:STANDARD
END:VTIMEZONE
BEGIN:VEVENT
DTSTART;TZID=America/Los_Angeles:20240125T183000
DTEND;TZID=America/Los_Angeles:20240125T213000
DTSTAMP:20260421T221608
CREATED:20231206T223507Z
LAST-MODIFIED:20231206T223507Z
UID:102298-1706207400-1706218200@lamorindacert.org
SUMMARY:CERT Class Series 2401
DESCRIPTION:CERT Winter Basic Class Series 2401 runs from January 11 through March 7th. \nFire Safety
URL:https://lamorindacert.org/calendar/cert-class-series-2401-3/
LOCATION:Lafayette Community Center\, 500 St. Mary's Rd\, Lafayette\, CA\, 94549\, United States
CATEGORIES:CERT Basic Class
ORGANIZER;CN="Registrar":MAILTO:registrar@lamorindacert.org
END:VEVENT
BEGIN:VEVENT
DTSTART;TZID=America/Los_Angeles:20240118T183000
DTEND;TZID=America/Los_Angeles:20240118T213000
DTSTAMP:20260421T221608
CREATED:20231206T223217Z
LAST-MODIFIED:20231206T223217Z
UID:102295-1705602600-1705613400@lamorindacert.org
SUMMARY:CERT Class Series 2401
DESCRIPTION:CERT Winter Basic Class Series 2401 runs from January 11 through March 7th. \nCERT Organization & Communications
URL:https://lamorindacert.org/calendar/cert-class-series-2401-2/
LOCATION:Lafayette Community Center\, 500 St. Mary's Rd\, Lafayette\, CA\, 94549\, United States
CATEGORIES:CERT Basic Class
ORGANIZER;CN="Registrar":MAILTO:registrar@lamorindacert.org
END:VEVENT
BEGIN:VEVENT
DTSTART;TZID=America/Los_Angeles:20240111T183000
DTEND;TZID=America/Los_Angeles:20240111T213000
DTSTAMP:20260421T221608
CREATED:20231206T222604Z
LAST-MODIFIED:20231206T223337Z
UID:102291-1704997800-1705008600@lamorindacert.org
SUMMARY:CERT Class Series 2401
DESCRIPTION:CERT Winter Basic Class Series 2401 runs from January 11 through March 7th. \nIntroduction & Prepareedness
URL:https://lamorindacert.org/calendar/cert-class-series-2401/
LOCATION:Lafayette Community Center\, 500 St. Mary's Rd\, Lafayette\, CA\, 94549\, United States
CATEGORIES:CERT Basic Class
ORGANIZER;CN="Registrar":MAILTO:registrar@lamorindacert.org
END:VEVENT
END:VCALENDAR