BEGIN:VCALENDAR
VERSION:2.0
PRODID:-//Lamorinda CERT - ECPv6.15.14//NONSGML v1.0//EN
CALSCALE:GREGORIAN
METHOD:PUBLISH
X-ORIGINAL-URL:https://lamorindacert.org
X-WR-CALDESC:Events for Lamorinda CERT
REFRESH-INTERVAL;VALUE=DURATION:PT1H
X-Robots-Tag:noindex
X-PUBLISHED-TTL:PT1H
BEGIN:VTIMEZONE
TZID:America/Los_Angeles
BEGIN:DAYLIGHT
TZOFFSETFROM:-0800
TZOFFSETTO:-0700
TZNAME:PDT
DTSTART:20250309T100000
END:DAYLIGHT
BEGIN:STANDARD
TZOFFSETFROM:-0700
TZOFFSETTO:-0800
TZNAME:PST
DTSTART:20251102T090000
END:STANDARD
BEGIN:DAYLIGHT
TZOFFSETFROM:-0800
TZOFFSETTO:-0700
TZNAME:PDT
DTSTART:20260308T100000
END:DAYLIGHT
BEGIN:STANDARD
TZOFFSETFROM:-0700
TZOFFSETTO:-0800
TZNAME:PST
DTSTART:20261101T090000
END:STANDARD
BEGIN:DAYLIGHT
TZOFFSETFROM:-0800
TZOFFSETTO:-0700
TZNAME:PDT
DTSTART:20270314T100000
END:DAYLIGHT
BEGIN:STANDARD
TZOFFSETFROM:-0700
TZOFFSETTO:-0800
TZNAME:PST
DTSTART:20271107T090000
END:STANDARD
END:VTIMEZONE
BEGIN:VEVENT
DTSTART;TZID=America/Los_Angeles:20260502T100000
DTEND;TZID=America/Los_Angeles:20260502T140000
DTSTAMP:20260421T164234
CREATED:20260420T193933Z
LAST-MODIFIED:20260420T193933Z
UID:103774-1777716000-1777730400@lamorindacert.org
SUMMARY:MOFD Open House - Orinda
DESCRIPTION:On Saturday\, May 2\, 2026 the Moraga-Orinda Fire District will hold it’s annual open house at Station 45 in Orinda.
URL:https://lamorindacert.org/calendar/mofd-open-house-orinda/
LOCATION:Station 45\, 33 Orinda Way\, Orinda\, CA\, 94556\, United States
CATEGORIES:Community Event
ORGANIZER;CN="Event":MAILTO:event@lamorindacert.org
END:VEVENT
BEGIN:VEVENT
DTSTART;TZID=America/Los_Angeles:20260704T100000
DTEND;TZID=America/Los_Angeles:20260704T220000
DTSTAMP:20260421T164234
CREATED:20260420T194707Z
LAST-MODIFIED:20260420T194707Z
UID:103779-1783159200-1783202400@lamorindacert.org
SUMMARY:Moraga 4th of July Celebration
DESCRIPTION:The July 4 Celebration typically includes community activities throughout the day\, culminating with a concert at 6:00pm followed by a spectacular fireworks display. It starts at the Commons and ends with fireworks at the County Club.
URL:https://lamorindacert.org/calendar/moraga-4th-of-july-celebration/
LOCATION:Moraga Commons\, 1425 St. Mary's Rd\, Moraga\, 94556\, United States
CATEGORIES:Community Event
END:VEVENT
END:VCALENDAR