BEGIN:VCALENDAR
VERSION:2.0
PRODID:-//Lamorinda CERT - ECPv6.15.14//NONSGML v1.0//EN
CALSCALE:GREGORIAN
METHOD:PUBLISH
X-ORIGINAL-URL:https://lamorindacert.org
X-WR-CALDESC:Events for Lamorinda CERT
REFRESH-INTERVAL;VALUE=DURATION:PT1H
X-Robots-Tag:noindex
X-PUBLISHED-TTL:PT1H
BEGIN:VTIMEZONE
TZID:America/Los_Angeles
BEGIN:DAYLIGHT
TZOFFSETFROM:-0800
TZOFFSETTO:-0700
TZNAME:PDT
DTSTART:20220313T100000
END:DAYLIGHT
BEGIN:STANDARD
TZOFFSETFROM:-0700
TZOFFSETTO:-0800
TZNAME:PST
DTSTART:20221106T090000
END:STANDARD
BEGIN:DAYLIGHT
TZOFFSETFROM:-0800
TZOFFSETTO:-0700
TZNAME:PDT
DTSTART:20230312T100000
END:DAYLIGHT
BEGIN:STANDARD
TZOFFSETFROM:-0700
TZOFFSETTO:-0800
TZNAME:PST
DTSTART:20231105T090000
END:STANDARD
BEGIN:DAYLIGHT
TZOFFSETFROM:-0800
TZOFFSETTO:-0700
TZNAME:PDT
DTSTART:20240310T100000
END:DAYLIGHT
BEGIN:STANDARD
TZOFFSETFROM:-0700
TZOFFSETTO:-0800
TZNAME:PST
DTSTART:20241103T090000
END:STANDARD
END:VTIMEZONE
BEGIN:VEVENT
DTSTART;TZID=America/Los_Angeles:20231007T083000
DTEND;TZID=America/Los_Angeles:20231007T170000
DTSTAMP:20260422T121725
CREATED:20230817T104910Z
LAST-MODIFIED:20230817T110112Z
UID:102090-1696667400-1696698000@lamorindacert.org
SUMMARY:HAM Cram - One Day to a HAM License
DESCRIPTION:When:            Saturday\, October 7\, 2023\, 8:30 AM – 5:00 PM \nWhere:           Benicia Senior Center\, 1201 East 2nd Street\, Benicia\, CA 94510 (map) \nCost:              $35. Includes all study material\, venue\, refreshments\, handouts\, freebies and exam fee. All instructors and facilitators are volunteers.  After the application is processed by the FCC you will need to pay a separate $35 fee directly to the FCC. \nAccess:         Our facility has full handicap access. \nInfo/Signup: Online at www.BeniciaARC.com. Class size is limited and it always fills up\, so register promptly. \nQuestions:   hamradioclass@beniciaarc.com or class Coordinator\, Bob Fentress (707) 742-3227
URL:https://lamorindacert.org/calendar/ham-cram-one-day-to-a-ham-license/
CATEGORIES:Radio training
END:VEVENT
END:VCALENDAR