BEGIN:VCALENDAR
VERSION:2.0
PRODID:-//Lamorinda CERT - ECPv6.15.14//NONSGML v1.0//EN
CALSCALE:GREGORIAN
METHOD:PUBLISH
X-ORIGINAL-URL:https://lamorindacert.org
X-WR-CALDESC:Events for Lamorinda CERT
REFRESH-INTERVAL;VALUE=DURATION:PT1H
X-Robots-Tag:noindex
X-PUBLISHED-TTL:PT1H
BEGIN:VTIMEZONE
TZID:America/Los_Angeles
BEGIN:DAYLIGHT
TZOFFSETFROM:-0800
TZOFFSETTO:-0700
TZNAME:PDT
DTSTART:20230312T100000
END:DAYLIGHT
BEGIN:STANDARD
TZOFFSETFROM:-0700
TZOFFSETTO:-0800
TZNAME:PST
DTSTART:20231105T090000
END:STANDARD
BEGIN:DAYLIGHT
TZOFFSETFROM:-0800
TZOFFSETTO:-0700
TZNAME:PDT
DTSTART:20240310T100000
END:DAYLIGHT
BEGIN:STANDARD
TZOFFSETFROM:-0700
TZOFFSETTO:-0800
TZNAME:PST
DTSTART:20241103T090000
END:STANDARD
BEGIN:DAYLIGHT
TZOFFSETFROM:-0800
TZOFFSETTO:-0700
TZNAME:PDT
DTSTART:20250309T100000
END:DAYLIGHT
BEGIN:STANDARD
TZOFFSETFROM:-0700
TZOFFSETTO:-0800
TZNAME:PST
DTSTART:20251102T090000
END:STANDARD
END:VTIMEZONE
BEGIN:VEVENT
DTSTART;TZID=America/Los_Angeles:20240909T190000
DTEND;TZID=America/Los_Angeles:20240909T203000
DTSTAMP:20260423T023052
CREATED:20240604T184725Z
LAST-MODIFIED:20240604T184725Z
UID:102674-1725908400-1725913800@lamorindacert.org
SUMMARY:2024 September Monthly Meeting
DESCRIPTION:Evacuation and Traffic Control – John Cornell
URL:https://lamorindacert.org/calendar/2024-september-monthly-meeting/
LOCATION:Lafayette Community Center\, 500 St. Mary's Rd\, Lafayette\, CA\, 94549\, United States
CATEGORIES:Monthly Meeting
ORGANIZER;CN="Registrar":MAILTO:registrar@lamorindacert.org
END:VEVENT
END:VCALENDAR