BEGIN:VCALENDAR
VERSION:2.0
PRODID:-//Lamorinda CERT - ECPv6.15.14//NONSGML v1.0//EN
CALSCALE:GREGORIAN
METHOD:PUBLISH
X-ORIGINAL-URL:https://lamorindacert.org
X-WR-CALDESC:Events for Lamorinda CERT
REFRESH-INTERVAL;VALUE=DURATION:PT1H
X-Robots-Tag:noindex
X-PUBLISHED-TTL:PT1H
BEGIN:VTIMEZONE
TZID:America/Los_Angeles
BEGIN:DAYLIGHT
TZOFFSETFROM:-0800
TZOFFSETTO:-0700
TZNAME:PDT
DTSTART:20240310T100000
END:DAYLIGHT
BEGIN:STANDARD
TZOFFSETFROM:-0700
TZOFFSETTO:-0800
TZNAME:PST
DTSTART:20241103T090000
END:STANDARD
BEGIN:DAYLIGHT
TZOFFSETFROM:-0800
TZOFFSETTO:-0700
TZNAME:PDT
DTSTART:20250309T100000
END:DAYLIGHT
BEGIN:STANDARD
TZOFFSETFROM:-0700
TZOFFSETTO:-0800
TZNAME:PST
DTSTART:20251102T090000
END:STANDARD
BEGIN:DAYLIGHT
TZOFFSETFROM:-0800
TZOFFSETTO:-0700
TZNAME:PDT
DTSTART:20260308T100000
END:DAYLIGHT
BEGIN:STANDARD
TZOFFSETFROM:-0700
TZOFFSETTO:-0800
TZNAME:PST
DTSTART:20261101T090000
END:STANDARD
END:VTIMEZONE
BEGIN:VEVENT
DTSTART;TZID=America/Los_Angeles:20251013T190000
DTEND;TZID=America/Los_Angeles:20251013T210000
DTSTAMP:20260422T044058
CREATED:20250827T203054Z
LAST-MODIFIED:20250827T203054Z
UID:103338-1760382000-1760389200@lamorindacert.org
SUMMARY:October Monthly Meeting
DESCRIPTION:Earthquake Preparedness meeting. Presenter is Bruce Macler\, Ph.D. This presentation will set the stage for the Great California Shakeout which will be held at 10:16 a.m. on October 16th. This is a Zoom presentation so\, a few minutes before 7:00 p.m. on Monday\, October 13th\, log into the Meetings page and click on the Online Link at the top of the page. You will fill out a short form and it will take you directly into the meeting. Meetings open for entry at 6:50 p.m. so don’t log in too early!
URL:https://lamorindacert.org/calendar/october-monthly-meeting-2/
LOCATION:Zoom – Virtual
CATEGORIES:Monthly Meeting
ORGANIZER;CN="Registrar":MAILTO:registrar@lamorindacert.org
END:VEVENT
END:VCALENDAR