BEGIN:VCALENDAR
VERSION:2.0
PRODID:-//Lamorinda CERT - ECPv6.15.14//NONSGML v1.0//EN
CALSCALE:GREGORIAN
METHOD:PUBLISH
X-WR-CALNAME:Lamorinda CERT
X-ORIGINAL-URL:https://lamorindacert.org
X-WR-CALDESC:Events for Lamorinda CERT
REFRESH-INTERVAL;VALUE=DURATION:PT1H
X-Robots-Tag:noindex
X-PUBLISHED-TTL:PT1H
BEGIN:VTIMEZONE
TZID:America/Los_Angeles
BEGIN:DAYLIGHT
TZOFFSETFROM:-0800
TZOFFSETTO:-0700
TZNAME:PDT
DTSTART:20250309T100000
END:DAYLIGHT
BEGIN:STANDARD
TZOFFSETFROM:-0700
TZOFFSETTO:-0800
TZNAME:PST
DTSTART:20251102T090000
END:STANDARD
BEGIN:DAYLIGHT
TZOFFSETFROM:-0800
TZOFFSETTO:-0700
TZNAME:PDT
DTSTART:20260308T100000
END:DAYLIGHT
BEGIN:STANDARD
TZOFFSETFROM:-0700
TZOFFSETTO:-0800
TZNAME:PST
DTSTART:20261101T090000
END:STANDARD
BEGIN:DAYLIGHT
TZOFFSETFROM:-0800
TZOFFSETTO:-0700
TZNAME:PDT
DTSTART:20270314T100000
END:DAYLIGHT
BEGIN:STANDARD
TZOFFSETFROM:-0700
TZOFFSETTO:-0800
TZNAME:PST
DTSTART:20271107T090000
END:STANDARD
END:VTIMEZONE
BEGIN:VEVENT
DTSTART;TZID=America/Los_Angeles:20260511T190000
DTEND;TZID=America/Los_Angeles:20260511T203000
DTSTAMP:20260421T164759
CREATED:20260126T182951Z
LAST-MODIFIED:20260420T190022Z
UID:103630-1778526000-1778531400@lamorindacert.org
SUMMARY:Monthly Meeting - PG&E Presentation
DESCRIPTION:Online meeting. Les Putnam of PG&E will discuss Gas and Electric utilities\, fire hazards\, risk reduction\, etc.
URL:https://lamorindacert.org/calendar/pge_presentation/
LOCATION:Zoom – Virtual
CATEGORIES:Monthly Meeting
ORGANIZER;CN="Registrar":MAILTO:registrar@lamorindacert.org
END:VEVENT
BEGIN:VEVENT
DTSTART;TZID=America/Los_Angeles:20260606T090000
DTEND;TZID=America/Los_Angeles:20260606T120000
DTSTAMP:20260421T164759
CREATED:20260126T183614Z
LAST-MODIFIED:20260126T183618Z
UID:103638-1780736400-1780747200@lamorindacert.org
SUMMARY:Monthly Meeting - Exercise
DESCRIPTION:This Monthly Meeting will be an EXERCISE on Saturday morning\, June 6 from 9:00 until noon. We are currently planning this event in cooperation with the Lafayette Police Department. Check back for more information.
URL:https://lamorindacert.org/calendar/monthly-meeting-exercise-2/
CATEGORIES:Exercise,Monthly Meeting
ORGANIZER;CN="Registrar":MAILTO:registrar@lamorindacert.org
END:VEVENT
BEGIN:VEVENT
DTSTART;TZID=America/Los_Angeles:20260810T190000
DTEND;TZID=America/Los_Angeles:20260810T210000
DTSTAMP:20260421T164759
CREATED:20260126T184538Z
LAST-MODIFIED:20260420T194947Z
UID:103640-1786388400-1786395600@lamorindacert.org
SUMMARY:Monthly Meeting - Disaster Dining
DESCRIPTION:This annual Monthly Meeting will have a short lecture portion on Drinking Water with proper storage and disinfection techniques and then a tasting of foods that have at least a 25 year shelf life.\nIf you are purchasing foods for your disaster supplies\, don’t you want to know if you like the taste? We will have foods (primarily dinner items) from multiple vendors. We prepare many of these dishes on-site with camp stoves so you can see real-live preparation issues.\nThe venue is not yet determined. Check back or watch the newsletter for more information.
URL:https://lamorindacert.org/calendar/monthly-meeting-disaster-dining/
CATEGORIES:Monthly Meeting
ORGANIZER;CN="Registrar":MAILTO:registrar@lamorindacert.org
END:VEVENT
BEGIN:VEVENT
DTSTART;TZID=America/Los_Angeles:20260914T190000
DTEND;TZID=America/Los_Angeles:20260914T210000
DTSTAMP:20260421T164759
CREATED:20260126T185014Z
LAST-MODIFIED:20260126T185014Z
UID:103642-1789412400-1789419600@lamorindacert.org
SUMMARY:Monthly Meeting - Public Safety Support
DESCRIPTION:Annual meeting for training volunteers for the Lafayette Art & Wine Festival and other events where CERT interacts with the public in a Public Safety role. This in-person meeting deals with traffic control and community interaction\, dealing with people one-on-one for event response or disaster response.\nDetails will come.
URL:https://lamorindacert.org/calendar/monthly-meeting-public-safety-support/
CATEGORIES:Monthly Meeting
ORGANIZER;CN="Registrar":MAILTO:registrar@lamorindacert.org
END:VEVENT
END:VCALENDAR