BEGIN:VCALENDAR
VERSION:2.0
PRODID:-//Lamorinda CERT - ECPv6.15.14//NONSGML v1.0//EN
CALSCALE:GREGORIAN
METHOD:PUBLISH
X-WR-CALNAME:Lamorinda CERT
X-ORIGINAL-URL:https://lamorindacert.org
X-WR-CALDESC:Events for Lamorinda CERT
REFRESH-INTERVAL;VALUE=DURATION:PT1H
X-Robots-Tag:noindex
X-PUBLISHED-TTL:PT1H
BEGIN:VTIMEZONE
TZID:America/Los_Angeles
BEGIN:DAYLIGHT
TZOFFSETFROM:-0800
TZOFFSETTO:-0700
TZNAME:PDT
DTSTART:20210314T100000
END:DAYLIGHT
BEGIN:STANDARD
TZOFFSETFROM:-0700
TZOFFSETTO:-0800
TZNAME:PST
DTSTART:20211107T090000
END:STANDARD
BEGIN:DAYLIGHT
TZOFFSETFROM:-0800
TZOFFSETTO:-0700
TZNAME:PDT
DTSTART:20220313T100000
END:DAYLIGHT
BEGIN:STANDARD
TZOFFSETFROM:-0700
TZOFFSETTO:-0800
TZNAME:PST
DTSTART:20221106T090000
END:STANDARD
BEGIN:DAYLIGHT
TZOFFSETFROM:-0800
TZOFFSETTO:-0700
TZNAME:PDT
DTSTART:20230312T100000
END:DAYLIGHT
BEGIN:STANDARD
TZOFFSETFROM:-0700
TZOFFSETTO:-0800
TZNAME:PST
DTSTART:20231105T090000
END:STANDARD
BEGIN:DAYLIGHT
TZOFFSETFROM:-0800
TZOFFSETTO:-0700
TZNAME:PDT
DTSTART:20240310T100000
END:DAYLIGHT
BEGIN:STANDARD
TZOFFSETFROM:-0700
TZOFFSETTO:-0800
TZNAME:PST
DTSTART:20241103T090000
END:STANDARD
END:VTIMEZONE
BEGIN:VEVENT
DTSTART;TZID=America/Los_Angeles:20230405T190000
DTEND;TZID=America/Los_Angeles:20230405T191500
DTSTAMP:20260422T055441
CREATED:20220710T191311Z
LAST-MODIFIED:20220710T200104Z
UID:101404-1680721200-1680722100@lamorindacert.org
SUMMARY:GMRS Monthly Net
DESCRIPTION:Radio net for GMRS users – LARIG Channels 121\, 122\, and 123
URL:https://lamorindacert.org/calendar/gmrs-monthly-net-2023-04-05/
LOCATION:GMRS Radio
CATEGORIES:Radio Net
ATTACH;FMTTYPE=image/jpeg:https://lamorindacert.org/wp-content/uploads/2022/07/UV-82HP.jpg
END:VEVENT
BEGIN:VEVENT
DTSTART;TZID=America/Los_Angeles:20230301T190000
DTEND;TZID=America/Los_Angeles:20230301T191500
DTSTAMP:20260422T055441
CREATED:20220710T191311Z
LAST-MODIFIED:20220710T200104Z
UID:101403-1677697200-1677698100@lamorindacert.org
SUMMARY:GMRS Monthly Net
DESCRIPTION:Radio net for GMRS users – LARIG Channels 121\, 122\, and 123
URL:https://lamorindacert.org/calendar/gmrs-monthly-net-2023-03-01/
LOCATION:GMRS Radio
CATEGORIES:Radio Net
ATTACH;FMTTYPE=image/jpeg:https://lamorindacert.org/wp-content/uploads/2022/07/UV-82HP.jpg
END:VEVENT
BEGIN:VEVENT
DTSTART;TZID=America/Los_Angeles:20230201T190000
DTEND;TZID=America/Los_Angeles:20230201T191500
DTSTAMP:20260422T055441
CREATED:20220710T191311Z
LAST-MODIFIED:20220710T200103Z
UID:101402-1675278000-1675278900@lamorindacert.org
SUMMARY:GMRS Monthly Net
DESCRIPTION:Radio net for GMRS users – LARIG Channels 121\, 122\, and 123
URL:https://lamorindacert.org/calendar/gmrs-monthly-net-2023-02-01/
LOCATION:GMRS Radio
CATEGORIES:Radio Net
ATTACH;FMTTYPE=image/jpeg:https://lamorindacert.org/wp-content/uploads/2022/07/UV-82HP.jpg
END:VEVENT
BEGIN:VEVENT
DTSTART;TZID=America/Los_Angeles:20230104T190000
DTEND;TZID=America/Los_Angeles:20230104T191500
DTSTAMP:20260422T055441
CREATED:20220710T191311Z
LAST-MODIFIED:20220710T200103Z
UID:101401-1672858800-1672859700@lamorindacert.org
SUMMARY:GMRS Monthly Net
DESCRIPTION:Radio net for GMRS users – LARIG Channels 121\, 122\, and 123
URL:https://lamorindacert.org/calendar/gmrs-monthly-net-2023-01-04/
LOCATION:GMRS Radio
CATEGORIES:Radio Net
ATTACH;FMTTYPE=image/jpeg:https://lamorindacert.org/wp-content/uploads/2022/07/UV-82HP.jpg
END:VEVENT
BEGIN:VEVENT
DTSTART;TZID=America/Los_Angeles:20221207T190000
DTEND;TZID=America/Los_Angeles:20221207T191500
DTSTAMP:20260422T055441
CREATED:20220710T191311Z
LAST-MODIFIED:20220710T200103Z
UID:101400-1670439600-1670440500@lamorindacert.org
SUMMARY:GMRS Monthly Net
DESCRIPTION:Radio net for GMRS users – LARIG Channels 121\, 122\, and 123
URL:https://lamorindacert.org/calendar/gmrs-monthly-net-2022-12-07/
LOCATION:GMRS Radio
CATEGORIES:Radio Net
ATTACH;FMTTYPE=image/jpeg:https://lamorindacert.org/wp-content/uploads/2022/07/UV-82HP.jpg
END:VEVENT
BEGIN:VEVENT
DTSTART;TZID=America/Los_Angeles:20221102T190000
DTEND;TZID=America/Los_Angeles:20221102T191500
DTSTAMP:20260422T055441
CREATED:20220710T191311Z
LAST-MODIFIED:20220710T200102Z
UID:101399-1667415600-1667416500@lamorindacert.org
SUMMARY:GMRS Monthly Net
DESCRIPTION:Radio net for GMRS users – LARIG Channels 121\, 122\, and 123
URL:https://lamorindacert.org/calendar/gmrs-monthly-net-2022-11-02/
LOCATION:GMRS Radio
CATEGORIES:Radio Net
ATTACH;FMTTYPE=image/jpeg:https://lamorindacert.org/wp-content/uploads/2022/07/UV-82HP.jpg
END:VEVENT
BEGIN:VEVENT
DTSTART;TZID=America/Los_Angeles:20221005T190000
DTEND;TZID=America/Los_Angeles:20221005T191500
DTSTAMP:20260422T055441
CREATED:20220710T191311Z
LAST-MODIFIED:20220710T200102Z
UID:101398-1664996400-1664997300@lamorindacert.org
SUMMARY:GMRS Monthly Net
DESCRIPTION:Radio net for GMRS users – LARIG Channels 121\, 122\, and 123
URL:https://lamorindacert.org/calendar/gmrs-monthly-net-2022-10-05/
LOCATION:GMRS Radio
CATEGORIES:Radio Net
ATTACH;FMTTYPE=image/jpeg:https://lamorindacert.org/wp-content/uploads/2022/07/UV-82HP.jpg
END:VEVENT
BEGIN:VEVENT
DTSTART;TZID=America/Los_Angeles:20220907T190000
DTEND;TZID=America/Los_Angeles:20220907T191500
DTSTAMP:20260422T055441
CREATED:20220710T191311Z
LAST-MODIFIED:20220710T200102Z
UID:101397-1662577200-1662578100@lamorindacert.org
SUMMARY:GMRS Monthly Net
DESCRIPTION:Radio net for GMRS users – LARIG Channels 121\, 122\, and 123
URL:https://lamorindacert.org/calendar/gmrs-monthly-net-2022-09-07/
LOCATION:GMRS Radio
CATEGORIES:Radio Net
ATTACH;FMTTYPE=image/jpeg:https://lamorindacert.org/wp-content/uploads/2022/07/UV-82HP.jpg
END:VEVENT
BEGIN:VEVENT
DTSTART;TZID=America/Los_Angeles:20220803T190000
DTEND;TZID=America/Los_Angeles:20220803T191500
DTSTAMP:20260422T055441
CREATED:20220710T191311Z
LAST-MODIFIED:20220710T200101Z
UID:101396-1659553200-1659554100@lamorindacert.org
SUMMARY:GMRS Monthly Net
DESCRIPTION:Radio net for GMRS users – LARIG Channels 121\, 122\, and 123
URL:https://lamorindacert.org/calendar/gmrs-monthly-net-2022-08-03/
LOCATION:GMRS Radio
CATEGORIES:Radio Net
ATTACH;FMTTYPE=image/jpeg:https://lamorindacert.org/wp-content/uploads/2022/07/UV-82HP.jpg
END:VEVENT
BEGIN:VEVENT
DTSTART;TZID=America/Los_Angeles:20220706T190000
DTEND;TZID=America/Los_Angeles:20220706T191500
DTSTAMP:20260422T055441
CREATED:20220710T191311Z
LAST-MODIFIED:20220710T200101Z
UID:101393-1657134000-1657134900@lamorindacert.org
SUMMARY:GMRS Monthly Net
DESCRIPTION:Radio net for GMRS users – LARIG Channels 121\, 122\, and 123
URL:https://lamorindacert.org/calendar/gmrs-monthly-net/
LOCATION:GMRS Radio
CATEGORIES:Radio Net
ATTACH;FMTTYPE=image/jpeg:https://lamorindacert.org/wp-content/uploads/2022/07/UV-82HP.jpg
END:VEVENT
END:VCALENDAR